BEGIN:VCALENDAR
VERSION:2.0
PRODID:VHSP
METHOD:PUBLISH
BEGIN:VEVENT
UID:69eb63ae4b97e@vhsp.de(random ID)
LOCATION:Hamburg
SUMMARY: Ausbildungsmesse Just in time
<br />
<b>Warning</b>:  Undefined array key "beschreibung_kurz" in <b>/var/www/vhosts/vhsp.de/httpdocs/daten/www.vhsp.de/module/kalender/ics.php</b> on line <b>54</b><br />
DESCRIPTION: 
CLASS:PUBLIC
DTSTART:20270120T100000Z
DTEND:20270120T130000Z
DTSTAMP:20270120T100000Z
END:VEVENT
END:VCALENDAR
