BEGIN:VCALENDAR
VERSION:2.0
PRODID:VHSP
METHOD:PUBLISH
BEGIN:VEVENT
UID:69eb64da7679c@vhsp.de(random ID)
LOCATION:Berlin
SUMMARY: DSLV-Kommission Berufliche Bildung
<br />
<b>Warning</b>:  Undefined array key "beschreibung_kurz" in <b>/var/www/vhosts/vhsp.de/httpdocs/daten/www.vhsp.de/module/kalender/ics.php</b> on line <b>54</b><br />
DESCRIPTION: 
CLASS:PUBLIC
DTSTART:20260507T083000Z
DTEND:20260507T130000Z
DTSTAMP:20260507T083000Z
END:VEVENT
END:VCALENDAR
